BEGIN:VCALENDAR
VERSION:2.0
PRODID:-// - ECPv6.15.20//NONSGML v1.0//EN
CALSCALE:GREGORIAN
METHOD:PUBLISH
X-ORIGINAL-URL:https://puppetsnplayerstheatre.com
X-WR-CALDESC:Events for 
REFRESH-INTERVAL;VALUE=DURATION:PT1H
X-Robots-Tag:noindex
X-PUBLISHED-TTL:PT1H
BEGIN:VTIMEZONE
TZID:UTC
BEGIN:STANDARD
TZOFFSETFROM:+0000
TZOFFSETTO:+0000
TZNAME:UTC
DTSTART:20170101T000000
END:STANDARD
END:VTIMEZONE
BEGIN:VEVENT
DTSTART;VALUE=DATE:20180930
DTEND;VALUE=DATE:20181023
DTSTAMP:20260424T003318
CREATED:20180611T172244Z
LAST-MODIFIED:20180709T140017Z
UID:3377-1538265600-1540252799@puppetsnplayerstheatre.com
SUMMARY:Not Available
DESCRIPTION:
URL:https://puppetsnplayerstheatre.com/event/not-available-4/
END:VEVENT
BEGIN:VEVENT
DTSTART;VALUE=DATE:20180930
DTEND;VALUE=DATE:20181001
DTSTAMP:20260424T003318
CREATED:20180611T171401Z
LAST-MODIFIED:20180704T150502Z
UID:3375-1538265600-1538351999@puppetsnplayerstheatre.com
SUMMARY:Private Event
DESCRIPTION:
URL:https://puppetsnplayerstheatre.com/event/private-event-4/
END:VEVENT
BEGIN:VEVENT
DTSTART;VALUE=DATE:20180922
DTEND;VALUE=DATE:20180923
DTSTAMP:20260424T003318
CREATED:20180611T170513Z
LAST-MODIFIED:20180704T150419Z
UID:3373-1537574400-1537660799@puppetsnplayerstheatre.com
SUMMARY:Private Event
DESCRIPTION:
URL:https://puppetsnplayerstheatre.com/event/private-event-3/
END:VEVENT
BEGIN:VEVENT
DTSTART;VALUE=DATE:20180912
DTEND;VALUE=DATE:20180917
DTSTAMP:20260424T003318
CREATED:20180611T174012Z
LAST-MODIFIED:20180705T135630Z
UID:3389-1536710400-1537142399@puppetsnplayerstheatre.com
SUMMARY:Not Availble
DESCRIPTION:
URL:https://puppetsnplayerstheatre.com/event/not-availble/
END:VEVENT
BEGIN:VEVENT
DTSTART;VALUE=DATE:20180825
DTEND;VALUE=DATE:20180826
DTSTAMP:20260424T003318
CREATED:20180611T165743Z
LAST-MODIFIED:20180611T165743Z
UID:3371-1535155200-1535241599@puppetsnplayerstheatre.com
SUMMARY:Private Event
DESCRIPTION:
URL:https://puppetsnplayerstheatre.com/event/private-event/
END:VEVENT
BEGIN:VEVENT
DTSTART;VALUE=DATE:20180724
DTEND;VALUE=DATE:20180815
DTSTAMP:20260424T003318
CREATED:20180227T013658Z
LAST-MODIFIED:20180709T140831Z
UID:394-1532390400-1534291199@puppetsnplayerstheatre.com
SUMMARY:Not Available
DESCRIPTION:
URL:https://puppetsnplayerstheatre.com/event/not-available-3/
END:VEVENT
END:VCALENDAR